BEGIN:VCALENDAR
VERSION:2.0
METHOD:PUBLISH
X-WR-CALNAME;VALUE=TEXT:Agenda #8028
PRODID:-//Drupal iCal API//EN
BEGIN:VEVENT
SUMMARY: Dialogue avec 1 pro "Exploitant dans le Transport (sanitaire, marchandises et voyageurs)"
DTSTART: 20260428T120000
DTEND: 20260428T130000
DESCRIPTION: Venez échanger en ligne avec&nbsp;un&nbsp; professionnel du secteur transport/logistique

Interactif, rapide et facile à mettre en oeuvre, vous écoutez grâce à une connexion internet, un ou une professionnelle expliquer son métier en direct.&nbsp;
END:VEVENT
BEGIN:VEVENT
SUMMARY: Dialogue avec 1 pro "Exploitant dans le Transport (sanitaire, marchandises et voyageurs)"
DTSTART: 20260428T120000
DTEND: 20260428T130000
DESCRIPTION: Venez échanger en ligne avec&nbsp;un&nbsp; professionnel du secteur transport/logistique

Interactif, rapide et facile à mettre en oeuvre, vous écoutez grâce à une connexion internet, un ou une professionnelle expliquer son métier en direct.&nbsp;
END:VEVENT
BEGIN:VEVENT
SUMMARY: Dialogue avec 1 pro "Exploitant dans le Transport (sanitaire, marchandises et voyageurs)"
DTSTART: 20260428T120000
DTEND: 20260428T130000
DESCRIPTION: Venez échanger en ligne avec&nbsp;un&nbsp; professionnel du secteur transport/logistique

Interactif, rapide et facile à mettre en oeuvre, vous écoutez grâce à une connexion internet, un ou une professionnelle expliquer son métier en direct.&nbsp;
END:VEVENT
END:VCALENDAR
