BEGIN:VCALENDAR
VERSION:2.0
METHOD:PUBLISH
X-WR-CALNAME;VALUE=TEXT:Agenda #8027
PRODID:-//Drupal iCal API//EN
BEGIN:VEVENT
SUMMARY: Défends ton orientation : une journée immersive pour découvrir les métiers du Transport et de la Logistique
DTSTART: 20260309T080000
DTEND: 20260309T150000
DESCRIPTION: Le 9 mars 2026, l’AFT organise, en partenariat avec l’Armée de Terre et l’entreprise LTR VIALON, une journée de découverte dédiée aux métiers du transport et de la logistique au Lycée Carnot Sampaix de Roanne. Cette action s’inscrit dans une démarche d’information et d’orientation des jeunes, visant à mettre en lumière les passerelles entre les métiers civils et militaires. L’objectif est de permettre aux lycéens de mieux comprendre les compétences recherchées et les perspectives professionnelles offertes par la filière.
END:VEVENT
END:VCALENDAR
