BEGIN:VCALENDAR
VERSION:2.0
METHOD:PUBLISH
X-WR-CALNAME;VALUE=TEXT:Agenda #8026
PRODID:-//Drupal iCal API//EN
BEGIN:VEVENT
SUMMARY: Dialogue avec 1 pro "opérateur logistique"
DTSTART: 20250310T130000
DTEND: 20250310T140000
DESCRIPTION: Venez échanger en ligne avec&nbsp;un&nbsp; professionnel du secteur transport/logistique

Interactif, rapide et facile à mettre en oeuvre, vous écoutez grâce à une connexion internet, un ou une professionnelle expliquer son métier en direct.&nbsp;
END:VEVENT
BEGIN:VEVENT
SUMMARY: Dialogue avec 1 pro "opérateur logistique"
DTSTART: 20250310T130000
DTEND: 20250310T140000
DESCRIPTION: Venez échanger en ligne avec&nbsp;un&nbsp; professionnel du secteur transport/logistique

Interactif, rapide et facile à mettre en oeuvre, vous écoutez grâce à une connexion internet, un ou une professionnelle expliquer son métier en direct.&nbsp;
END:VEVENT
BEGIN:VEVENT
SUMMARY: Dialogue avec 1 pro "opérateur logistique"
DTSTART: 20250310T130000
DTEND: 20250310T140000
DESCRIPTION: Venez échanger en ligne avec&nbsp;un&nbsp; professionnel du secteur transport/logistique

Interactif, rapide et facile à mettre en oeuvre, vous écoutez grâce à une connexion internet, un ou une professionnelle expliquer son métier en direct.&nbsp;
END:VEVENT
END:VCALENDAR
