BEGIN:VCALENDAR
VERSION:2.0
METHOD:PUBLISH
X-WR-CALNAME;VALUE=TEXT:Agenda #8018
PRODID:-//Drupal iCal API//EN
BEGIN:VEVENT
SUMMARY: Forum Formation
DTSTART: 20260225T123000
DTEND: 20260225T160000
DESCRIPTION: Forum dédié à l'orientation et à la découverte des multiples opportunités de formations et de reconversion.
END:VEVENT
END:VCALENDAR
