BEGIN:VCALENDAR
VERSION:2.0
METHOD:PUBLISH
X-WR-CALNAME;VALUE=TEXT:Agenda #8017
PRODID:-//Drupal iCal API//EN
BEGIN:VEVENT
SUMMARY: Webinaire "Dialogue avec des professionnelles Transport Logistique "
DTSTART: 20260305T130000
DTEND: 20260305T143000
DESCRIPTION: Mesdames, avez-vous pensé aux métiers du Transport et de la Logistique ?

À l’occasion de la Journée internationale des droits des femmes, l'AFT Hauts de France organise&nbsp;le jeudi 5 mars un webinaire inspirant dédié aux femmes professionnelles du transport et de la logistique.
&nbsp;
END:VEVENT
BEGIN:VEVENT
SUMMARY: Webinaire "Dialogue avec des professionnelles Transport Logistique "
DTSTART: 20260305T130000
DTEND: 20260305T143000
DESCRIPTION: Mesdames, avez-vous pensé aux métiers du Transport et de la Logistique ?

À l’occasion de la Journée internationale des droits des femmes, l'AFT Hauts de France organise&nbsp;le jeudi 5 mars un webinaire inspirant dédié aux femmes professionnelles du transport et de la logistique.
&nbsp;
END:VEVENT
BEGIN:VEVENT
SUMMARY: Webinaire "Dialogue avec des professionnelles Transport Logistique "
DTSTART: 20260305T130000
DTEND: 20260305T143000
DESCRIPTION: Mesdames, avez-vous pensé aux métiers du Transport et de la Logistique ?

À l’occasion de la Journée internationale des droits des femmes, l'AFT Hauts de France organise&nbsp;le jeudi 5 mars un webinaire inspirant dédié aux femmes professionnelles du transport et de la logistique.
&nbsp;
END:VEVENT
BEGIN:VEVENT
SUMMARY: Webinaire "Dialogue avec des professionnelles Transport Logistique "
DTSTART: 20260305T130000
DTEND: 20260305T143000
DESCRIPTION: Mesdames, avez-vous pensé aux métiers du Transport et de la Logistique ?

À l’occasion de la Journée internationale des droits des femmes, l'AFT Hauts de France organise&nbsp;le jeudi 5 mars un webinaire inspirant dédié aux femmes professionnelles du transport et de la logistique.
&nbsp;
END:VEVENT
END:VCALENDAR
