BEGIN:VCALENDAR
VERSION:2.0
METHOD:PUBLISH
X-WR-CALNAME;VALUE=TEXT:Agenda #7967
PRODID:-//Drupal iCal API//EN
BEGIN:VEVENT
SUMMARY: Jeudi 12 février : Présentation publique du rapport OPTL IDF 2025
DTSTART: 20260212T130000
DTEND: 20260212T150000
DESCRIPTION: La présentation publique du Rapport de OPTL IDF&nbsp;2025&nbsp;aura lieu le&nbsp;jeudi 12 février prochain à 14h00&nbsp;dans les locaux de l' E.S.T Ecole Supérieure des Transports &amp; Logistique Paris 8.

Inscription :&nbsp;https://forms.office.com/e/6RnM7uSw6X
END:VEVENT
END:VCALENDAR
