BEGIN:VCALENDAR
VERSION:2.0
METHOD:PUBLISH
X-WR-CALNAME;VALUE=TEXT:Agenda #7964
PRODID:-//Drupal iCal API//EN
BEGIN:VEVENT
SUMMARY: Jeudi 29 janvier : FORUM DE L'ORIENTATION ET DE L'ALTERNANCE 2026 DE VILLEPARISIS
DTSTART: 20260129T080000
DTEND: 20260129T160000
DESCRIPTION: Vous avez entre 16 et 26 ans?

Venez découvrir les métiers et les opportunités du secteur Transport Logistique! L'AFT IDF vous attend nombreux ce jeudi au &nbsp;Forum de l'orientation et de l'alternance de&nbsp;Villeparisis !
END:VEVENT
END:VCALENDAR
