BEGIN:VCALENDAR
VERSION:2.0
METHOD:PUBLISH
X-WR-CALNAME;VALUE=TEXT:Agenda #7954
PRODID:-//Drupal iCal API//EN
BEGIN:VEVENT
SUMMARY: Webinaire Focus Métiers : Le Transport Routier de Marchandises
DTSTART: 20260618T120000
DTEND: 20260618T130000
DESCRIPTION: Secteur clé de l’économie, le Transport Routier de Marchandises joue un rôle essentiel dans notre quotidien. Derrière chaque livraison se cachent des métiers variés, accessibles et porteurs d’avenir. participez à notre webinaire gratuit d’une heure dédié à ce secteur !
END:VEVENT
END:VCALENDAR
