BEGIN:VCALENDAR
VERSION:2.0
METHOD:PUBLISH
X-WR-CALNAME;VALUE=TEXT:Agenda #7953
PRODID:-//Drupal iCal API//EN
BEGIN:VEVENT
SUMMARY: Webinaire Focus Métiers : Le Transport Routier de Voyageurs
DTSTART: 20260521T120000
DTEND: 20260521T130000
DESCRIPTION: Découvrez les métiers du Transport Routier de Voyageurs et plongez au cœur d’un secteur essentiel à la mobilité de tous.
Participez à notre webinaire gratuit d’une heure pour explorer ses nombreuses opportunités professionnelles.
END:VEVENT
END:VCALENDAR
