BEGIN:VCALENDAR
VERSION:2.0
METHOD:PUBLISH
X-WR-CALNAME;VALUE=TEXT:Agenda #7952
PRODID:-//Drupal iCal API//EN
BEGIN:VEVENT
SUMMARY: Webinaire Focus Métiers : La Logistique
DTSTART: 20260409T120000
DTEND: 20260409T130000
DESCRIPTION: Vous souhaitez découvrir un secteur dynamique, essentiel et en pleine croissance ?

Participez à notre webinaire gratuit d’une heure consacré aux métiers de la logistique.
END:VEVENT
END:VCALENDAR
