BEGIN:VCALENDAR
VERSION:2.0
METHOD:PUBLISH
X-WR-CALNAME;VALUE=TEXT:Agenda #7951
PRODID:-//Drupal iCal API//EN
BEGIN:VEVENT
SUMMARY: Webinaire Focus métiers : Le Transport Routier de Marchandises
DTSTART: 20260212T130000
DTEND: 20260212T140000
DESCRIPTION: Vous cherchez un secteur dynamique, essentiel à l’économie et riche en opportunités professionnelles ?
Venez découvrir les coulisses du&nbsp;Transport Routier de Marchandises lors d’un webinaire gratuit d’une heure.
END:VEVENT
END:VCALENDAR
