BEGIN:VCALENDAR
VERSION:2.0
METHOD:PUBLISH
X-WR-CALNAME;VALUE=TEXT:Agenda #7499
PRODID:-//Drupal iCal API//EN
BEGIN:VEVENT
SUMMARY: Présentation des métiers et formations du Transport à Schiltigheim
DTSTART: 20250516T113000
DTEND: 20250516T133000
DESCRIPTION: L'AFT Transport &amp; Logistique&nbsp;de Strasbourg animera un atelier dans l'agence France Travail de Schiltigheim.

&nbsp;
END:VEVENT
END:VCALENDAR
