BEGIN:VCALENDAR
VERSION:2.0
METHOD:PUBLISH
X-WR-CALNAME;VALUE=TEXT:Agenda #7497
PRODID:-//Drupal iCal API//EN
BEGIN:VEVENT
SUMMARY: Lundi 05 mai : Découverte des métiers de la logistique au GRETA Val-de-Marne
DTSTART: 20250505T123000
DTEND: 20250505T140000
DESCRIPTION: Lundi 05 mai, l'&nbsp;AFT IDF&nbsp;&nbsp;interviendra auprès du GRETA Val-de-Marne dans le cadre de la découverte des métiers de la logistique.

Au programme :


	Présentation des métiers et des formations du secteur de la logistique,
	Immersion métiers en réalité virtuelle
	Quiz
END:VEVENT
END:VCALENDAR
