BEGIN:VCALENDAR
VERSION:2.0
METHOD:PUBLISH
X-WR-CALNAME;VALUE=TEXT:Agenda #7495
PRODID:-//Drupal iCal API//EN
BEGIN:VEVENT
SUMMARY: « La Fête des Métiers et de l’Alternance » – 21 mai à Paris Expo Montreuil
DTSTART: 20250521T080000
DTEND: 20250521T160000
DESCRIPTION: La Fête des Métiers et de l'Alternance vous donne rendez-vous le 21 mai 2025 à Paris Montreuil Expo !
END:VEVENT
END:VCALENDAR
