BEGIN:VCALENDAR
VERSION:2.0
METHOD:PUBLISH
X-WR-CALNAME;VALUE=TEXT:Agenda #7493
PRODID:-//Drupal iCal API//EN
BEGIN:VEVENT
SUMMARY: Occitanie : Comment intégrer le secteur transport logistique en situation de handicap
DTSTART: 20250620T090000
DTEND: 20250620T090000
DESCRIPTION: Dans le cadre de la semaine Transport Logistique de France travail, l'AFT Occitanie animera vendredi 20 juin prochain de 11h à 12h&nbsp;en partenariat avec&nbsp;AGEFIPH, CHEPOS, AFTRAL, OPCO et&nbsp;&nbsp;FRANCE TRAVAIL, un webinaire à destination des personnes en situation de handicap,&nbsp;intitulé "Comment intégrer le secteur Transport logistique"

&nbsp;

Inscription obligatoire auprès de son conseiller France Travail
END:VEVENT
BEGIN:VEVENT
SUMMARY: Occitanie : Comment intégrer le secteur transport logistique en situation de handicap
DTSTART: 20250620T090000
DTEND: 20250620T090000
DESCRIPTION: Dans le cadre de la semaine Transport Logistique de France travail, l'AFT Occitanie animera vendredi 20 juin prochain de 11h à 12h&nbsp;en partenariat avec&nbsp;AGEFIPH, CHEPOS, AFTRAL, OPCO et&nbsp;&nbsp;FRANCE TRAVAIL, un webinaire à destination des personnes en situation de handicap,&nbsp;intitulé "Comment intégrer le secteur Transport logistique"

&nbsp;

Inscription obligatoire auprès de son conseiller France Travail
END:VEVENT
END:VCALENDAR
