BEGIN:VCALENDAR
VERSION:2.0
METHOD:PUBLISH
X-WR-CALNAME;VALUE=TEXT:Agenda #7481
PRODID:-//Drupal iCal API//EN
BEGIN:VEVENT
SUMMARY: Toulouse : Le festival de l'égalité des chances en action
DTSTART: 20250515T070000
DTEND: 20250515T070000
DESCRIPTION: L'AFT Occitanie participera au festival de l'Egalité des chances en action le 15 mai prochain au Stadium de Toulouse.&nbsp;Evènement national entièrement dédié à l’inclusion professionnelle.

&nbsp;
END:VEVENT
BEGIN:VEVENT
SUMMARY: Toulouse : Le festival de l'égalité des chances en action
DTSTART: 20250515T070000
DTEND: 20250515T070000
DESCRIPTION: L'AFT Occitanie participera au festival de l'Egalité des chances en action le 15 mai prochain au Stadium de Toulouse.&nbsp;Evènement national entièrement dédié à l’inclusion professionnelle.

&nbsp;
END:VEVENT
BEGIN:VEVENT
SUMMARY: Toulouse : Le festival de l'égalité des chances en action
DTSTART: 20250515T070000
DTEND: 20250515T070000
DESCRIPTION: L'AFT Occitanie participera au festival de l'Egalité des chances en action le 15 mai prochain au Stadium de Toulouse.&nbsp;Evènement national entièrement dédié à l’inclusion professionnelle.

&nbsp;
END:VEVENT
END:VCALENDAR
