BEGIN:VCALENDAR
VERSION:2.0
METHOD:PUBLISH
X-WR-CALNAME;VALUE=TEXT:Agenda #7358
PRODID:-//Drupal iCal API//EN
BEGIN:VEVENT
SUMMARY: Samedi 15 mars : "Les femmes dans le transport et la logistique"
DTSTART: 20250315T080000
DTEND: 20250315T110000
DESCRIPTION: Dans la continuité de la Journée Internationale des Droits des Femmes le 08 mars 2025, l'AFT Ile-de France&nbsp;et le centre de formation AFTRAL de Rungis organisent un focus sur les Femmes dans le secteur Transport Logistique.

N'hésitez pas à venir nombreux et nombreuses afin de découvrir les métiers et les nombreuses opportunités de ce secteur d'activité!

&nbsp;Au programme :

✔ Rencontre&nbsp;avec des professionnelles et des jeunes femmes en apprentissage qui ont osé briser le plafond de verre

✔ Espace orientation &amp; formation pour passer de l’inspiration à l’action

✔ Visite du site AFTRAL de Rungis

✔ Découverte des métiers de la route auprès du simulateur de conduite&nbsp;

&nbsp;
END:VEVENT
END:VCALENDAR
