BEGIN:VCALENDAR
VERSION:2.0
METHOD:PUBLISH
X-WR-CALNAME;VALUE=TEXT:Agenda #7357
PRODID:-//Drupal iCal API//EN
BEGIN:VEVENT
SUMMARY: Mercredi 12 mars : Découverte des métiers de la logistique autour d'un escape-game
DTSTART: 20250312T083000
DTEND: 20250312T100000
DESCRIPTION: Dans le cadre de la nouvelle promotion TP Agent Magasinier, les stagiaires du GRETA du Val-de-Marne auront l'opportunité de découvrir les métiers de la logistique autour d'un escape-game animé&nbsp;par l'AFT Ile-de-France.

&nbsp;

&nbsp;
END:VEVENT
END:VCALENDAR
