BEGIN:VCALENDAR
VERSION:2.0
METHOD:PUBLISH
X-WR-CALNAME;VALUE=TEXT:Agenda #7355
PRODID:-//Drupal iCal API//EN
BEGIN:VEVENT
SUMMARY: Mardi 11 mars : Réussite au Féminin à la Cité des métiers du Val de Marne
DTSTART: 20250311T123000
DTEND: 20250311T160000
DESCRIPTION: Dans le cadre de la Journée Internationale des Droits des Femmes le 8 mars prochain,&nbsp;la Ville de Choisy-le-Roi, la Cité des métiers du Val-de-Marne et France Travail&nbsp;organisent&nbsp;un forum dédié au Féminin le mardi 11 mars. Ici, pas de bouquets de fleurs mais un véritable temps fort pour bousculer les idées reçues et ouvrir le champ des possibles aux femmes dans des secteurs où elles sont encore sous-représentées !

Les femmes pourront ainsi découvrir les métiers et les nombreuses opportunités du secteur Transport Logistique auprès de l'AFT Ile-de-France.

&nbsp;
END:VEVENT
END:VCALENDAR
