BEGIN:VCALENDAR
VERSION:2.0
METHOD:PUBLISH
X-WR-CALNAME;VALUE=TEXT:Agenda #7354
PRODID:-//Drupal iCal API//EN
BEGIN:VEVENT
SUMMARY: Lundi 10 mars : Découverte des métiers de la logistique au GRETA de Fontainebleau
DTSTART: 20250310T140000
DTEND: 20250310T160000
DESCRIPTION: Dans de cadre du démarrage de la nouvelle promotion d'agents TLE du GRETA 77 de Fontainebleau, les stagiaires découvriront les métiers de la logistique autour&nbsp;d'activités ludiques proposées par l'AFT Ile-de-France.

&nbsp;
END:VEVENT
END:VCALENDAR
