BEGIN:VCALENDAR
VERSION:2.0
METHOD:PUBLISH
X-WR-CALNAME;VALUE=TEXT:Agenda #7353
PRODID:-//Drupal iCal API//EN
BEGIN:VEVENT
SUMMARY: Samedi 8 mars : Journées Portes Ouvertes Lycée St A. de St Exupéry à Créteil
DTSTART: 20250308T080000
DTEND: 20250308T113000
DESCRIPTION: Dans le cadre des Journées Portes Ouvertes organisées par le Lycée A. de St Exupéry de Créteil, de nombreux jeunes auront l'opportunité de découvrir le secteur Transport Logistique auprès de l'AFT Ile-de France au travers d'ateliers ludiques.
END:VEVENT
END:VCALENDAR
