BEGIN:VCALENDAR
VERSION:2.0
METHOD:PUBLISH
X-WR-CALNAME;VALUE=TEXT:Agenda #7349
PRODID:-//Drupal iCal API//EN
BEGIN:VEVENT
SUMMARY: Forum EMPLOI " Transport Sanitaire: L'Art de prendre Soin"
DTSTART: 20250401T070000
DTEND: 20250401T100000
DESCRIPTION: Dans le cadre de la semaine des métiers du soin et de l'accompagnement, France Travail organise au sein de la préfecture du Puy de Dôme le Mardi 1er Avril 2025

Un forum emploi " L'art de prendre soin : Devenez&nbsp;Ambulancier Diplômé&nbsp;d'Etat
END:VEVENT
END:VCALENDAR
