BEGIN:VCALENDAR
VERSION:2.0
METHOD:PUBLISH
X-WR-CALNAME;VALUE=TEXT:Agenda #7347
PRODID:-//Drupal iCal API//EN
BEGIN:VEVENT
SUMMARY: STAGEDATING - Lycée Jean Albert Grégoire à SOYAUX
DTSTART: 20250321T093000
DTEND: 20250321T110000
DESCRIPTION: Stage Dating – Transport &amp; Logistique
Le Lycée Jean Albert Grégoire à Soyaux, en collaboration avec l'AFT TRANSPORT &amp; LOGISTIQUE organise un Stage Dating le 𝐯𝐞𝐧𝐝𝐫𝐞𝐝𝐢 𝟐𝟏 𝐦𝐚𝐫𝐬 𝟐𝟎𝟐𝟓 de 10h30 à 12h, pour ses élèves de 1ère OTM
END:VEVENT
END:VCALENDAR
