BEGIN:VCALENDAR
VERSION:2.0
METHOD:PUBLISH
X-WR-CALNAME;VALUE=TEXT:Agenda #7342
PRODID:-//Drupal iCal API//EN
BEGIN:VEVENT
SUMMARY: Toulouse : AFT'HEURES - Comment appréhender le "Management intergénérationnel"
DTSTART: 20250325T090000
DTEND: 20250325T090000
DESCRIPTION: L'AFT Occitanie organise le Mardi 25 mars à 10h dans ses&nbsp;locaux&nbsp;72 rue Edmond Rostand à Toulouse, un AFT'HEURE animé par Fabien SANCHEZ du Cabinet LM TRANSITION sur le thème "Comment appréhender le management intergénérationnel".

Au programme :&nbsp;

-Comprendre les différences entre les générations

-Réussir son management intergénérationnel

-Développer une culture intergénérationnelle

N'hésitez pas à vous inscrire via le lien suivant&nbsp;&nbsp;▶️&nbsp;INSCRIPTION

&nbsp;
END:VEVENT
BEGIN:VEVENT
SUMMARY: Toulouse : AFT'HEURES - Comment appréhender le "Management intergénérationnel"
DTSTART: 20250325T090000
DTEND: 20250325T090000
DESCRIPTION: L'AFT Occitanie organise le Mardi 25 mars à 10h dans ses&nbsp;locaux&nbsp;72 rue Edmond Rostand à Toulouse, un AFT'HEURE animé par Fabien SANCHEZ du Cabinet LM TRANSITION sur le thème "Comment appréhender le management intergénérationnel".

Au programme :&nbsp;

-Comprendre les différences entre les générations

-Réussir son management intergénérationnel

-Développer une culture intergénérationnelle

N'hésitez pas à vous inscrire via le lien suivant&nbsp;&nbsp;▶️&nbsp;INSCRIPTION

&nbsp;
END:VEVENT
END:VCALENDAR
