BEGIN:VCALENDAR
VERSION:2.0
METHOD:PUBLISH
X-WR-CALNAME;VALUE=TEXT:Agenda #7334
PRODID:-//Drupal iCal API//EN
BEGIN:VEVENT
SUMMARY: Journée Portes Ouvertes XPO Logistics Marck (62)
DTSTART: 20250311T080000
DTEND: 20250311T160000
DESCRIPTION: En partenariat avec l'AFT Hauts-de-France, l'agence&nbsp;XPO de Marck (62)&nbsp;vous ouvre ses portes de 9h à 12h et de 14h à 17h&nbsp;!
END:VEVENT
BEGIN:VEVENT
SUMMARY: Journée Portes Ouvertes XPO Logistics Marck (62)
DTSTART: 20250311T080000
DTEND: 20250311T160000
DESCRIPTION: En partenariat avec l'AFT Hauts-de-France, l'agence&nbsp;XPO de Marck (62)&nbsp;vous ouvre ses portes de 9h à 12h et de 14h à 17h&nbsp;!
END:VEVENT
BEGIN:VEVENT
SUMMARY: Journée Portes Ouvertes XPO Logistics Marck (62)
DTSTART: 20250311T080000
DTEND: 20250311T160000
DESCRIPTION: En partenariat avec l'AFT Hauts-de-France, l'agence&nbsp;XPO de Marck (62)&nbsp;vous ouvre ses portes de 9h à 12h et de 14h à 17h&nbsp;!
END:VEVENT
END:VCALENDAR
