BEGIN:VCALENDAR
VERSION:2.0
METHOD:PUBLISH
X-WR-CALNAME;VALUE=TEXT:Agenda #7333
PRODID:-//Drupal iCal API//EN
BEGIN:VEVENT
SUMMARY: DESTI PRO Forum des Métiers du CLEE de CHALONS EN CHAMPAGNE
DTSTART: 20250313T080000
DTEND: 20250313T153000
DESCRIPTION: Entreprises, engagez-vous pour l’avenir des jeunes !

Dans le cadre de leur engagement en faveur de l’orientation et de la découverte professionnelle des jeunes, le CLEE Châlons (Comité Local Éducation / Entreprises) organise, en partenariat avec Châlons et son Agglo, pour la seconde année son Forum des Métiers DESTI PRO.
END:VEVENT
BEGIN:VEVENT
SUMMARY: DESTI PRO Forum des Métiers du CLEE de CHALONS EN CHAMPAGNE
DTSTART: 20250313T080000
DTEND: 20250313T153000
DESCRIPTION: Entreprises, engagez-vous pour l’avenir des jeunes !

Dans le cadre de leur engagement en faveur de l’orientation et de la découverte professionnelle des jeunes, le CLEE Châlons (Comité Local Éducation / Entreprises) organise, en partenariat avec Châlons et son Agglo, pour la seconde année son Forum des Métiers DESTI PRO.
END:VEVENT
END:VCALENDAR
