BEGIN:VCALENDAR
VERSION:2.0
METHOD:PUBLISH
X-WR-CALNAME;VALUE=TEXT:Agenda #7326
PRODID:-//Drupal iCal API//EN
BEGIN:VEVENT
SUMMARY: Une intégration réussie de vos salarié(e)s et alternant(e)s - Participez à l'échange
DTSTART: 20250318T073000
DTEND: 20250318T093000
DESCRIPTION: Les instants AFT'Heures - Comment réussir l'intégration de vos futurs salariés et alternants ? Rendez-vous le 18/03/2025 au Lycée Oehmichen de Châlons en Champagne (51)&nbsp;
END:VEVENT
END:VCALENDAR
