BEGIN:VCALENDAR
VERSION:2.0
METHOD:PUBLISH
X-WR-CALNAME;VALUE=TEXT:Agenda #7316
PRODID:-//Drupal iCal API//EN
BEGIN:VEVENT
SUMMARY: La 9ème étape du FRIGO TOUR 2025 aura lieu dans la ville du Havre !
DTSTART: 20250319T073000
DTEND: 20250319T153000
DESCRIPTION: Le 15 janvier dernier, démarrait la 2nde&nbsp;édition du Frigo Tour ! A travers une série de 12 étapes notre&nbsp;"Village du Froid" vous propose&nbsp;une journée immersive, permettant de&nbsp;découvrir les métiers de la chaîne du froid.

L’objectif ?&nbsp;Informer et sensibiliser les collégiens,&nbsp;lycéens et demandeurs d'emploi&nbsp;quant à la richesse et à la diversité des métiers du froid&nbsp;!

La 9ème&nbsp;étape&nbsp;du Frigo Tour se tiendra le&nbsp;Mercredi 19&nbsp;mars 2025 au&nbsp;Lycée LAVOISIER&nbsp; 51 rue des Moteaux 76620 LE HAVRE
END:VEVENT
END:VCALENDAR
