BEGIN:VCALENDAR
VERSION:2.0
METHOD:PUBLISH
X-WR-CALNAME;VALUE=TEXT:Agenda #7173
PRODID:-//Drupal iCal API//EN
BEGIN:VEVENT
SUMMARY: Forum de l'Orientation et des métiers de Bourges 2025
DTSTART: 20250131T080000
DTEND: 20250201T160000
DESCRIPTION: L'AFT&nbsp;sera présente pour vous informer sur les métiers et les formations du transport et de la logistique lors du&nbsp;Forum de l'Orientation et des métiers de Bourges&nbsp;du Vendredi 31 Janvier&nbsp;au Samedi 1 Février 2025.&nbsp;
END:VEVENT
END:VCALENDAR
