BEGIN:VCALENDAR
VERSION:2.0
METHOD:PUBLISH
X-WR-CALNAME;VALUE=TEXT:Agenda #7082
PRODID:-//Drupal iCal API//EN
BEGIN:VEVENT
SUMMARY: NARBONNE : Action découverte métiers Transport Logistique
DTSTART: 20250617T070000
DTEND: 20250617T070000
DESCRIPTION: Dans le cadre de la semaine Transport Logistique de France Travail, l'AFT Occitanie présentera les métiers du transport et de la logistique aux demandeurs d'emploi&nbsp;le mardi 17 juin dans les locaux de l'AFTRAL Narbonne.&nbsp;
END:VEVENT
BEGIN:VEVENT
SUMMARY: NARBONNE : Action découverte métiers Transport Logistique
DTSTART: 20250617T070000
DTEND: 20250617T070000
DESCRIPTION: Dans le cadre de la semaine Transport Logistique de France Travail, l'AFT Occitanie présentera les métiers du transport et de la logistique aux demandeurs d'emploi&nbsp;le mardi 17 juin dans les locaux de l'AFTRAL Narbonne.&nbsp;
END:VEVENT
BEGIN:VEVENT
SUMMARY: NARBONNE : Action découverte métiers Transport Logistique
DTSTART: 20250617T070000
DTEND: 20250617T070000
DESCRIPTION: Dans le cadre de la semaine Transport Logistique de France Travail, l'AFT Occitanie présentera les métiers du transport et de la logistique aux demandeurs d'emploi&nbsp;le mardi 17 juin dans les locaux de l'AFTRAL Narbonne.&nbsp;
END:VEVENT
END:VCALENDAR
