BEGIN:VCALENDAR
VERSION:2.0
METHOD:PUBLISH
X-WR-CALNAME;VALUE=TEXT:Agenda #6946
PRODID:-//Drupal iCal API//EN
BEGIN:VEVENT
SUMMARY: Forum Transport Logistique à Molsheim
DTSTART: 20241106T230000
DTEND: 20241106T230000
DESCRIPTION: L’AFT Transport &amp; Logistique, en collaboration avec France Travail, organise un “Forum Transport et Logistique” le 7 novembre 2024 afin de faire découvrir ce secteur aux jeunes, demandeurs d’emploi et aux personnes en reconversion professionnelle.
END:VEVENT
BEGIN:VEVENT
SUMMARY: Forum Transport Logistique à Molsheim
DTSTART: 20241106T230000
DTEND: 20241106T230000
DESCRIPTION: L’AFT Transport &amp; Logistique, en collaboration avec France Travail, organise un “Forum Transport et Logistique” le 7 novembre 2024 afin de faire découvrir ce secteur aux jeunes, demandeurs d’emploi et aux personnes en reconversion professionnelle.
END:VEVENT
BEGIN:VEVENT
SUMMARY: Forum Transport Logistique à Molsheim
DTSTART: 20241106T230000
DTEND: 20241106T230000
DESCRIPTION: L’AFT Transport &amp; Logistique, en collaboration avec France Travail, organise un “Forum Transport et Logistique” le 7 novembre 2024 afin de faire découvrir ce secteur aux jeunes, demandeurs d’emploi et aux personnes en reconversion professionnelle.
END:VEVENT
BEGIN:VEVENT
SUMMARY: Forum Transport Logistique à Molsheim
DTSTART: 20241106T230000
DTEND: 20241106T230000
DESCRIPTION: L’AFT Transport &amp; Logistique, en collaboration avec France Travail, organise un “Forum Transport et Logistique” le 7 novembre 2024 afin de faire découvrir ce secteur aux jeunes, demandeurs d’emploi et aux personnes en reconversion professionnelle.
END:VEVENT
END:VCALENDAR
