BEGIN:VCALENDAR
VERSION:2.0
METHOD:PUBLISH
X-WR-CALNAME;VALUE=TEXT:Agenda #6942
PRODID:-//Drupal iCal API//EN
BEGIN:VEVENT
SUMMARY: Job Dating spécial Transport et Logistique à Ludres (54)
DTSTART: 20241206T080000
DTEND: 20241206T160000
DESCRIPTION: L'AFT Transport &amp; Logistique organise son Job Dating spécial Transport et Logistique en collaboration avec France Travail Ludres (54) !
END:VEVENT
BEGIN:VEVENT
SUMMARY: Job Dating spécial Transport et Logistique à Ludres (54)
DTSTART: 20241206T080000
DTEND: 20241206T160000
DESCRIPTION: L'AFT Transport &amp; Logistique organise son Job Dating spécial Transport et Logistique en collaboration avec France Travail Ludres (54) !
END:VEVENT
BEGIN:VEVENT
SUMMARY: Job Dating spécial Transport et Logistique à Ludres (54)
DTSTART: 20241206T080000
DTEND: 20241206T160000
DESCRIPTION: L'AFT Transport &amp; Logistique organise son Job Dating spécial Transport et Logistique en collaboration avec France Travail Ludres (54) !
END:VEVENT
BEGIN:VEVENT
SUMMARY: Job Dating spécial Transport et Logistique à Ludres (54)
DTSTART: 20241206T080000
DTEND: 20241206T160000
DESCRIPTION: L'AFT Transport &amp; Logistique organise son Job Dating spécial Transport et Logistique en collaboration avec France Travail Ludres (54) !
END:VEVENT
END:VCALENDAR
