BEGIN:VCALENDAR
VERSION:2.0
METHOD:PUBLISH
X-WR-CALNAME;VALUE=TEXT:Agenda #6807
PRODID:-//Drupal iCal API//EN
BEGIN:VEVENT
SUMMARY: AFT'HEURES : un atelier RH au services des entreprises ! QVCT et reconnaissance au travail : parlons-en !
DTSTART: 20240917T070000
DTEND: 20240917T100000
DESCRIPTION: Suite à nos webinaires&nbsp;"les mercredis de l'AFT"*&nbsp;dédiés aux représentants, RH, des entreprises transport et logistique, l'AFT Transport Logistique vous propose de mettre en pratique la thématique lors d'un atelier en présentiel intitulé "AFT'HEURES"!

&nbsp;
END:VEVENT
END:VCALENDAR
