BEGIN:VCALENDAR
VERSION:2.0
METHOD:PUBLISH
X-WR-CALNAME;VALUE=TEXT:Agenda #6797
PRODID:-//Drupal iCal API//EN
BEGIN:VEVENT
SUMMARY: Forum des Métiers Grenoble Alpes Métropole
DTSTART: 20241016T113000
DTEND: 20241017T150000
DESCRIPTION: Un Forum des métiers, les 16 et 17 octobre 2024, à Alpexpo, organisé par Grenoble Alpes Metropole, Un pôle Transport et Logistique animé par l'AFT Auvergne Rhône Alpes
END:VEVENT
END:VCALENDAR
