BEGIN:VCALENDAR
VERSION:2.0
METHOD:PUBLISH
X-WR-CALNAME;VALUE=TEXT:Agenda #6795
PRODID:-//Drupal iCal API//EN
BEGIN:VEVENT
SUMMARY: Journée du Transport et de la Logistique de Portes lès Valence (26)
DTSTART: 20241002T070000
DTEND: 20241002T143000
DESCRIPTION: Une journée dédiée au Transport et à la Logistique, le mercredi 2 octobre 2024, des entreprises, des démonstrations, des simulateurs, de l'information, un job dating !!
END:VEVENT
END:VCALENDAR
