BEGIN:VCALENDAR
VERSION:2.0
METHOD:PUBLISH
X-WR-CALNAME;VALUE=TEXT:Agenda #6788
PRODID:-//Drupal iCal API//EN
BEGIN:VEVENT
SUMMARY: 8 juillet : Prescript’heures spécial Transport Sanitaire
DTSTART: 20240708T120000
DTEND: 20240708T133000
DESCRIPTION: Les Prescript’heures sont des webinaires d’1h30 animés par l’AFT Transport &amp; Logistique et dédiés aux professionnels de l’orientation et de l’insertion. Prochaine thématique : le secteur du transport sanitaire, les métiers qui s’y pratiquent et les voies d’accès envisageables.
END:VEVENT
END:VCALENDAR
