BEGIN:VCALENDAR
VERSION:2.0
METHOD:PUBLISH
X-WR-CALNAME;VALUE=TEXT:Agenda #6785
PRODID:-//Drupal iCal API//EN
BEGIN:VEVENT
SUMMARY: "Du stade vers l'emploi en 2024" au gymnase Saint-Exupéry de Maisons-Alfort
DTSTART: 20240704T060000
DTEND: 20240704T143000
DESCRIPTION: L'AFT Ile-de-France&nbsp;sera présente le 4 juillet à l'événement&nbsp;"Du stade vers l'emploi en 2024"&nbsp;pour&nbsp;faire découvrir les métiers et les opportunités du secteur Transport-Logistique auprès des demandeurs d'emploi, des jeunes, des demandeurs d’emploi en situation de handicap et des demandeurs d’emploi de longue durée,&nbsp;durant&nbsp;une journée dans un stade autour d'activités sportives, d'un déjeuner convivial et d'un job dating.&nbsp;

Le principe est d'associer&nbsp;des employeurs, des demandeurs d’emploi et des conseillers de façon anonyme et d'utiliser le sport comme outil de repérage des compétences pour les demandeurs d’emploi et, ainsi, faciliter le recrutement des entreprises.
END:VEVENT
END:VCALENDAR
