BEGIN:VCALENDAR
VERSION:2.0
METHOD:PUBLISH
X-WR-CALNAME;VALUE=TEXT:Agenda #6783
PRODID:-//Drupal iCal API//EN
BEGIN:VEVENT
SUMMARY: 03 Juillet : Intervention au GRETA de Fontainebleau
DTSTART: 20240703T080000
DTEND: 20240703T100000
DESCRIPTION: L'AFT Ile-de-France interviendra avec des ateliers ludiques&nbsp;le 03 Juillet prochain auprès des stagiaires du GRETA de Fontainebleau en formation "Accès à la Qualification des Métiers de la Logistique.

L'opportunité pour cette nouvelle promotion de s'initier à la gestion de stocks, au magasinage ou encore à la préparation de commandes afin de valider son choix d'orientation professionnelle.&nbsp;
END:VEVENT
END:VCALENDAR
