BEGIN:VCALENDAR
VERSION:2.0
METHOD:PUBLISH
X-WR-CALNAME;VALUE=TEXT:Agenda #6782
PRODID:-//Drupal iCal API//EN
BEGIN:VEVENT
SUMMARY: 27 juin : JO de l'inclusion à Boissy-Saint-Léger
DTSTART: 20240627T113000
DTEND: 20240627T150000
DESCRIPTION: L'événement organisé en partenariat avec la mission locale du Plateau Briard et le GPSEA rassemblera&nbsp;des jeunes entre 16 et 25 ans et des entreprises autour d'activités sportives afin de leur proposer une approche informelle d'identification de potentiels candidats et d'opportunités d'emploi.

L'occasion idéale pour ces jeunes de découvrir les métiers et les opportunités du secteur Transport - Logistique auprès de l'AFT Ile-de-France
END:VEVENT
END:VCALENDAR
