BEGIN:VCALENDAR
VERSION:2.0
METHOD:PUBLISH
X-WR-CALNAME;VALUE=TEXT:Agenda #6776
PRODID:-//Drupal iCal API//EN
BEGIN:VEVENT
SUMMARY: Portes Ouvertes Keolis Porte des Alpes à Charvieu-Chavagneux (38)
DTSTART: 20240621T070000
DTEND: 20240621T100000
DESCRIPTION: Keolis Porte des Alpes ouvre les portes de son agence située à Charvieu-Chavagneux.

Des postes sont à pourvoir !
END:VEVENT
END:VCALENDAR
