BEGIN:VCALENDAR
VERSION:2.0
METHOD:PUBLISH
X-WR-CALNAME;VALUE=TEXT:Agenda #6774
PRODID:-//Drupal iCal API//EN
BEGIN:VEVENT
SUMMARY: Semaine du Transport Logistique - Job dating à Maizières-Lès-Metz
DTSTART: 20240618T113000
DTEND: 20240618T143000
DESCRIPTION: Venez rencontrer les employeurs du Transport et de la Logistique à la Salle des Fêtes de Maizières-Lès-Metz - 13 rue du 3 Septembre, Mardi 18 juin 2024 de 13H30 à 16H30.
END:VEVENT
END:VCALENDAR
