BEGIN:VCALENDAR
VERSION:2.0
METHOD:PUBLISH
X-WR-CALNAME;VALUE=TEXT:Agenda #6765
PRODID:-//Drupal iCal API//EN
BEGIN:VEVENT
SUMMARY: ALES GARDON : Présentation des métiers Transport Logistique
DTSTART: 20240620T070000
DTEND: 20240620T070000
DESCRIPTION: L'AFT Occitanie présentera les métiers du Transport et de la Logistique aux demandeurs d'emploi le Jeudi 20 juin prochain de 9h à 12h&nbsp;
END:VEVENT
BEGIN:VEVENT
SUMMARY: ALES GARDON : Présentation des métiers Transport Logistique
DTSTART: 20240620T070000
DTEND: 20240620T070000
DESCRIPTION: L'AFT Occitanie présentera les métiers du Transport et de la Logistique aux demandeurs d'emploi le Jeudi 20 juin prochain de 9h à 12h&nbsp;
END:VEVENT
BEGIN:VEVENT
SUMMARY: ALES GARDON : Présentation des métiers Transport Logistique
DTSTART: 20240620T070000
DTEND: 20240620T070000
DESCRIPTION: L'AFT Occitanie présentera les métiers du Transport et de la Logistique aux demandeurs d'emploi le Jeudi 20 juin prochain de 9h à 12h&nbsp;
END:VEVENT
END:VCALENDAR
