BEGIN:VCALENDAR
VERSION:2.0
METHOD:PUBLISH
X-WR-CALNAME;VALUE=TEXT:Agenda #6763
PRODID:-//Drupal iCal API//EN
BEGIN:VEVENT
SUMMARY: Pezenas : Présentation des métiers Transport et Logistique
DTSTART: 20240618T070000
DTEND: 20240618T070000
DESCRIPTION: L'AFT Occitanie présentera les métiers du Transport et de la Logistique aux demandeurs d'emploi le mardi 18 juin de 9h à 10h à France Travail de Pézenas.
END:VEVENT
BEGIN:VEVENT
SUMMARY: Pezenas : Présentation des métiers Transport et Logistique
DTSTART: 20240618T070000
DTEND: 20240618T070000
DESCRIPTION: L'AFT Occitanie présentera les métiers du Transport et de la Logistique aux demandeurs d'emploi le mardi 18 juin de 9h à 10h à France Travail de Pézenas.
END:VEVENT
BEGIN:VEVENT
SUMMARY: Pezenas : Présentation des métiers Transport et Logistique
DTSTART: 20240618T070000
DTEND: 20240618T070000
DESCRIPTION: L'AFT Occitanie présentera les métiers du Transport et de la Logistique aux demandeurs d'emploi le mardi 18 juin de 9h à 10h à France Travail de Pézenas.
END:VEVENT
END:VCALENDAR
