BEGIN:VCALENDAR
VERSION:2.0
METHOD:PUBLISH
X-WR-CALNAME;VALUE=TEXT:Agenda #6761
PRODID:-//Drupal iCal API//EN
BEGIN:VEVENT
SUMMARY: CIRCUIT DECOUVERTE DES METIERS
DTSTART: 20240702T073000
DTEND: 20240702T143000
DESCRIPTION: Journée Découverte des Métiers à Limoges : Visite entreprise et initiation en centre de formation&nbsp;

&nbsp;
END:VEVENT
BEGIN:VEVENT
SUMMARY: CIRCUIT DECOUVERTE DES METIERS
DTSTART: 20240702T073000
DTEND: 20240702T143000
DESCRIPTION: Journée Découverte des Métiers à Limoges : Visite entreprise et initiation en centre de formation&nbsp;

&nbsp;
END:VEVENT
END:VCALENDAR
