BEGIN:VCALENDAR
VERSION:2.0
METHOD:PUBLISH
X-WR-CALNAME;VALUE=TEXT:Agenda #6757
PRODID:-//Drupal iCal API//EN
BEGIN:VEVENT
SUMMARY: Les femmes dans la filière transport avec l'APEC Grand Est
DTSTART: 20240621T080000
DTEND: 20240621T120000
DESCRIPTION: L'AFT Transport Logistique, l'APEC Grand Est et l'OTRE, Organisation des Transports Routiers Européens ont le&nbsp;a le plaisir de vous convier à cet événement pensé et conçu pour VOUS. Venez à la rencontre de profils féminins exerçants dans le secteur !

Rejoignez-nous au centre Apec de Reims pour ce moment convivial, le 21 juin, de 10h à 14h.

&nbsp;
END:VEVENT
END:VCALENDAR
