BEGIN:VCALENDAR
VERSION:2.0
METHOD:PUBLISH
X-WR-CALNAME;VALUE=TEXT:Agenda #6756
PRODID:-//Drupal iCal API//EN
BEGIN:VEVENT
SUMMARY: Forum Formation Alternance - Paris 17ème
DTSTART: 20240617T070000
DTEND: 20240617T070000
DESCRIPTION: &nbsp;

Le 17 juin au matin, l'AFT Ile-de-France vous donne rendez-vous à la Mairie du 17e pour découvrir des métiers, des formations, des&nbsp;opportunités de carrière dans les secteurs du transport et de la logistique.

Ce forum est ouvert à tous !
END:VEVENT
BEGIN:VEVENT
SUMMARY: Forum Formation Alternance - Paris 17ème
DTSTART: 20240617T070000
DTEND: 20240617T070000
DESCRIPTION: &nbsp;

Le 17 juin au matin, l'AFT Ile-de-France vous donne rendez-vous à la Mairie du 17e pour découvrir des métiers, des formations, des&nbsp;opportunités de carrière dans les secteurs du transport et de la logistique.

Ce forum est ouvert à tous !
END:VEVENT
END:VCALENDAR
