BEGIN:VCALENDAR
VERSION:2.0
METHOD:PUBLISH
X-WR-CALNAME;VALUE=TEXT:Agenda #6681
PRODID:-//Drupal iCal API//EN
BEGIN:VEVENT
SUMMARY: Semaine Transport Logistique - Gourin (56)
DTSTART: 20240611T120000
DTEND: 20240611T153000
DESCRIPTION: Dans de le cadre de la semaine transport et logistique organisée par France Travail, l'AFT Transport et Logistique sera présente aux côtés de France Travail Carhaix, d'entreprises de la branche, de partenaires et de centres de formation&nbsp;au forum des métiers du Transport à Gourin ce mardi 11 juin de 14h à 17h30.
END:VEVENT
BEGIN:VEVENT
SUMMARY: Semaine Transport Logistique - Gourin (56)
DTSTART: 20240611T120000
DTEND: 20240611T153000
DESCRIPTION: Dans de le cadre de la semaine transport et logistique organisée par France Travail, l'AFT Transport et Logistique sera présente aux côtés de France Travail Carhaix, d'entreprises de la branche, de partenaires et de centres de formation&nbsp;au forum des métiers du Transport à Gourin ce mardi 11 juin de 14h à 17h30.
END:VEVENT
BEGIN:VEVENT
SUMMARY: Semaine Transport Logistique - Gourin (56)
DTSTART: 20240611T120000
DTEND: 20240611T153000
DESCRIPTION: Dans de le cadre de la semaine transport et logistique organisée par France Travail, l'AFT Transport et Logistique sera présente aux côtés de France Travail Carhaix, d'entreprises de la branche, de partenaires et de centres de formation&nbsp;au forum des métiers du Transport à Gourin ce mardi 11 juin de 14h à 17h30.
END:VEVENT
BEGIN:VEVENT
SUMMARY: Semaine Transport Logistique - Gourin (56)
DTSTART: 20240611T120000
DTEND: 20240611T153000
DESCRIPTION: Dans de le cadre de la semaine transport et logistique organisée par France Travail, l'AFT Transport et Logistique sera présente aux côtés de France Travail Carhaix, d'entreprises de la branche, de partenaires et de centres de formation&nbsp;au forum des métiers du Transport à Gourin ce mardi 11 juin de 14h à 17h30.
END:VEVENT
END:VCALENDAR
