BEGIN:VCALENDAR
VERSION:2.0
METHOD:PUBLISH
X-WR-CALNAME;VALUE=TEXT:Agenda #6680
PRODID:-//Drupal iCal API//EN
BEGIN:VEVENT
SUMMARY: Semaine Transport Logistique : Visite d'entreprise : GEODIS le 17 juin 2024 à Bruges
DTSTART: 20240617T070000
DTEND: 20240617T090000
DESCRIPTION: Dans le cadre de la semaine Transport Logistique de FRANCE TRAVAIL, visite de l'entreprise GEODIS&nbsp;le 17 juin à 9H à BRUGES :&nbsp;&nbsp;présentation des métiers du secteur Transport et logistique .
END:VEVENT
END:VCALENDAR
