BEGIN:VCALENDAR
VERSION:2.0
METHOD:PUBLISH
X-WR-CALNAME;VALUE=TEXT:Agenda #6677
PRODID:-//Drupal iCal API//EN
BEGIN:VEVENT
SUMMARY: Semaine Transport Logistique - Saint Malo (35)
DTSTART: 20240613T070000
DTEND: 20240613T150000
DESCRIPTION: Dans de le cadre de la semaine transport et logistique, l'AFT Transport et Logistique sera présente aux côtés des agences France Travail de Saint Malo et de Combourg à Saint Malo toute la journée de ce jeudi 13 juin. Journée dédiée à la découverte, à l’information, et au recrutement dans les secteurs du Transport auprès du grand public.
END:VEVENT
BEGIN:VEVENT
SUMMARY: Semaine Transport Logistique - Saint Malo (35)
DTSTART: 20240613T070000
DTEND: 20240613T150000
DESCRIPTION: Dans de le cadre de la semaine transport et logistique, l'AFT Transport et Logistique sera présente aux côtés des agences France Travail de Saint Malo et de Combourg à Saint Malo toute la journée de ce jeudi 13 juin. Journée dédiée à la découverte, à l’information, et au recrutement dans les secteurs du Transport auprès du grand public.
END:VEVENT
BEGIN:VEVENT
SUMMARY: Semaine Transport Logistique - Saint Malo (35)
DTSTART: 20240613T070000
DTEND: 20240613T150000
DESCRIPTION: Dans de le cadre de la semaine transport et logistique, l'AFT Transport et Logistique sera présente aux côtés des agences France Travail de Saint Malo et de Combourg à Saint Malo toute la journée de ce jeudi 13 juin. Journée dédiée à la découverte, à l’information, et au recrutement dans les secteurs du Transport auprès du grand public.
END:VEVENT
BEGIN:VEVENT
SUMMARY: Semaine Transport Logistique - Saint Malo (35)
DTSTART: 20240613T070000
DTEND: 20240613T150000
DESCRIPTION: Dans de le cadre de la semaine transport et logistique, l'AFT Transport et Logistique sera présente aux côtés des agences France Travail de Saint Malo et de Combourg à Saint Malo toute la journée de ce jeudi 13 juin. Journée dédiée à la découverte, à l’information, et au recrutement dans les secteurs du Transport auprès du grand public.
END:VEVENT
END:VCALENDAR
