BEGIN:VCALENDAR
VERSION:2.0
METHOD:PUBLISH
X-WR-CALNAME;VALUE=TEXT:Agenda #6674
PRODID:-//Drupal iCal API//EN
BEGIN:VEVENT
SUMMARY: Visite Centre de Formation AFTRAL Longvic
DTSTART: 20240610T080000
DTEND: 20240610T090000
DESCRIPTION: A l'occasion de la Semaine du Transport et de la Logistique le centre de formation AFTRAL de Longvic&nbsp;ouvre ses portes pour une visite du site et une présentation de l'offre de formations.
END:VEVENT
END:VCALENDAR
